BEGIN:VCALENDAR
VERSION:2.0
PRODID:-//East Bay Economic Development Alliance - ECPv6.15.20//NONSGML v1.0//EN
CALSCALE:GREGORIAN
METHOD:PUBLISH
X-WR-CALNAME:East Bay Economic Development Alliance
X-ORIGINAL-URL:https://eastbayeda.org
X-WR-CALDESC:Events for East Bay Economic Development Alliance
REFRESH-INTERVAL;VALUE=DURATION:PT1H
X-Robots-Tag:noindex
X-PUBLISHED-TTL:PT1H
BEGIN:VTIMEZONE
TZID:America/Los_Angeles
BEGIN:DAYLIGHT
TZOFFSETFROM:-0800
TZOFFSETTO:-0700
TZNAME:PDT
DTSTART:20250309T100000
END:DAYLIGHT
BEGIN:STANDARD
TZOFFSETFROM:-0700
TZOFFSETTO:-0800
TZNAME:PST
DTSTART:20251102T090000
END:STANDARD
BEGIN:DAYLIGHT
TZOFFSETFROM:-0800
TZOFFSETTO:-0700
TZNAME:PDT
DTSTART:20260308T100000
END:DAYLIGHT
BEGIN:STANDARD
TZOFFSETFROM:-0700
TZOFFSETTO:-0800
TZNAME:PST
DTSTART:20261101T090000
END:STANDARD
BEGIN:DAYLIGHT
TZOFFSETFROM:-0800
TZOFFSETTO:-0700
TZNAME:PDT
DTSTART:20270314T100000
END:DAYLIGHT
BEGIN:STANDARD
TZOFFSETFROM:-0700
TZOFFSETTO:-0800
TZNAME:PST
DTSTART:20271107T090000
END:STANDARD
END:VTIMEZONE
BEGIN:VEVENT
DTSTART;TZID=America/Los_Angeles:20261104T110000
DTEND;TZID=America/Los_Angeles:20261104T120000
DTSTAMP:20260424T063532
CREATED:20260116T174129Z
LAST-MODIFIED:20260116T174129Z
UID:10000070-1793790000-1793793600@eastbayeda.org
SUMMARY:Land Use & Infrastructure Committee Meeting
DESCRIPTION:The Land Use & Infrastructure Committee discusses regional priorities related to land use\, transportation\, and infrastructure improvements across the East Bay. Meetings focus on policies\, projects\, and investments that support economic growth\, efficient mobility and goods movement\, and a high quality of life for residents and workers.
URL:https://eastbayeda.org/event/land-use-infrastructure-committee-meeting/2026-11-04/
LOCATION:Virtual
ATTACH;FMTTYPE=image/webp:https://eastbayeda.org/wp-content/uploads/2026/01/OIP.webp
END:VEVENT
END:VCALENDAR