BEGIN:VCALENDAR
VERSION:2.0
PRODID:-//East Bay Economic Development Alliance - ECPv6.15.20//NONSGML v1.0//EN
CALSCALE:GREGORIAN
METHOD:PUBLISH
X-ORIGINAL-URL:https://eastbayeda.org
X-WR-CALDESC:Events for East Bay Economic Development Alliance
REFRESH-INTERVAL;VALUE=DURATION:PT1H
X-Robots-Tag:noindex
X-PUBLISHED-TTL:PT1H
BEGIN:VTIMEZONE
TZID:America/Los_Angeles
BEGIN:DAYLIGHT
TZOFFSETFROM:-0800
TZOFFSETTO:-0700
TZNAME:PDT
DTSTART:20230312T100000
END:DAYLIGHT
BEGIN:STANDARD
TZOFFSETFROM:-0700
TZOFFSETTO:-0800
TZNAME:PST
DTSTART:20231105T090000
END:STANDARD
BEGIN:DAYLIGHT
TZOFFSETFROM:-0800
TZOFFSETTO:-0700
TZNAME:PDT
DTSTART:20240310T100000
END:DAYLIGHT
BEGIN:STANDARD
TZOFFSETFROM:-0700
TZOFFSETTO:-0800
TZNAME:PST
DTSTART:20241103T090000
END:STANDARD
BEGIN:DAYLIGHT
TZOFFSETFROM:-0800
TZOFFSETTO:-0700
TZNAME:PDT
DTSTART:20250309T100000
END:DAYLIGHT
BEGIN:STANDARD
TZOFFSETFROM:-0700
TZOFFSETTO:-0800
TZNAME:PST
DTSTART:20251102T090000
END:STANDARD
END:VTIMEZONE
BEGIN:VEVENT
DTSTART;TZID=America/Los_Angeles:20240815T160000
DTEND;TZID=America/Los_Angeles:20240815T200000
DTSTAMP:20260424T030535
CREATED:20240726T065459Z
LAST-MODIFIED:20240726T065459Z
UID:10000031-1723737600-1723752000@eastbayeda.org
SUMMARY:Prescott Night Market
DESCRIPTION:Prescott Night Market is a vibrant gathering place that lights up West Oakland once a month on Thursday nights from June to October\, from 4 pm to 8 pm. This event unites residents\, food makers\, artisans\, entrepreneurs\, and local businesses in a celebration of our rich and diverse community. \nJoin us for the remaining dates: August 15\, September 5\, and October 3. Don’t miss the final night the market and Oakland Ballers game will take place together on August 15—it’s a perfect opportunity to enjoy local flavors\, arts\, and entertainment. The market is in partnership with Bandaloop Studios\, Activate Oakland\, and Almanac Brewery. \nThe Prescott Night Market is free and open to the public. See the full schedule here: https://www.westoaklandfarmersmarket.org/nightmarket 
URL:https://eastbayeda.org/event/prescott-night-market-west-oakland-events/
LOCATION:Prescott Night Market\, 1620 18th Street\, Oakland\, CA\, 94607\, United States
CATEGORIES:External
ATTACH;FMTTYPE=image/png:https://eastbayeda.org/wp-content/uploads/2024/06/Prescott-1125-px-black.png
END:VEVENT
BEGIN:VEVENT
DTSTART;TZID=America/Los_Angeles:20240711T160000
DTEND;TZID=America/Los_Angeles:20240711T200000
DTSTAMP:20260424T030535
CREATED:20240601T092142Z
LAST-MODIFIED:20240601T092142Z
UID:10000026-1720713600-1720728000@eastbayeda.org
SUMMARY:Prescott Night Market
DESCRIPTION:Prescott Night Market is a gathering place that comes alive once a month on Thursday nights from June to October between 4 pm and 8 pm. It unites residents\, food makers\, artisans\, entrepreneurs\, and local businesses in celebration of our rich and diverse community. \nThe market will bring the streets of West Oakland alive on June 6\, July 11\, August 15\, September 5\, and October 3 in partnership with the Oakland Ballers\, Bandaloop Studios\, Activate Oakland\, and Almanac Brewery. The first three night markets occur during Oakland Ballers‘ home games! This event is open and free to the public. \nSee the full schedule here: https://www.westoaklandfarmersmarket.org/nightmarket 
URL:https://eastbayeda.org/event/prescott-night-market/2024-07-11/
LOCATION:Prescott Night Market\, 1620 18th Street\, Oakland\, CA\, 94607\, United States
CATEGORIES:External
ATTACH;FMTTYPE=image/png:https://eastbayeda.org/wp-content/uploads/2024/06/Prescott-1125-px-black.png
END:VEVENT
BEGIN:VEVENT
DTSTART;TZID=America/Los_Angeles:20240606T160000
DTEND;TZID=America/Los_Angeles:20240606T200000
DTSTAMP:20260424T030535
CREATED:20240601T092142Z
LAST-MODIFIED:20240601T092142Z
UID:10000025-1717689600-1717704000@eastbayeda.org
SUMMARY:Prescott Night Market
DESCRIPTION:Prescott Night Market is a gathering place that comes alive once a month on Thursday nights from June to October between 4 pm and 8 pm. It unites residents\, food makers\, artisans\, entrepreneurs\, and local businesses in celebration of our rich and diverse community. \nThe market will bring the streets of West Oakland alive on June 6\, July 11\, August 15\, September 5\, and October 3 in partnership with the Oakland Ballers\, Bandaloop Studios\, Activate Oakland\, and Almanac Brewery. The first three night markets occur during Oakland Ballers‘ home games! This event is open and free to the public. \nSee the full schedule here: https://www.westoaklandfarmersmarket.org/nightmarket 
URL:https://eastbayeda.org/event/prescott-night-market/2024-06-06/
LOCATION:Prescott Night Market\, 1620 18th Street\, Oakland\, CA\, 94607\, United States
CATEGORIES:External
ATTACH;FMTTYPE=image/png:https://eastbayeda.org/wp-content/uploads/2024/06/Prescott-1125-px-black.png
END:VEVENT
END:VCALENDAR