BEGIN:VCALENDAR
VERSION:2.0
PRODID:-//East Bay Economic Development Alliance - ECPv6.15.20//NONSGML v1.0//EN
CALSCALE:GREGORIAN
METHOD:PUBLISH
X-WR-CALNAME:East Bay Economic Development Alliance
X-ORIGINAL-URL:https://eastbayeda.org
X-WR-CALDESC:Events for East Bay Economic Development Alliance
REFRESH-INTERVAL;VALUE=DURATION:PT1H
X-Robots-Tag:noindex
X-PUBLISHED-TTL:PT1H
BEGIN:VTIMEZONE
TZID:America/Los_Angeles
BEGIN:DAYLIGHT
TZOFFSETFROM:-0800
TZOFFSETTO:-0700
TZNAME:PDT
DTSTART:20240310T100000
END:DAYLIGHT
BEGIN:STANDARD
TZOFFSETFROM:-0700
TZOFFSETTO:-0800
TZNAME:PST
DTSTART:20241103T090000
END:STANDARD
BEGIN:DAYLIGHT
TZOFFSETFROM:-0800
TZOFFSETTO:-0700
TZNAME:PDT
DTSTART:20250309T100000
END:DAYLIGHT
BEGIN:STANDARD
TZOFFSETFROM:-0700
TZOFFSETTO:-0800
TZNAME:PST
DTSTART:20251102T090000
END:STANDARD
BEGIN:DAYLIGHT
TZOFFSETFROM:-0800
TZOFFSETTO:-0700
TZNAME:PDT
DTSTART:20260308T100000
END:DAYLIGHT
BEGIN:STANDARD
TZOFFSETFROM:-0700
TZOFFSETTO:-0800
TZNAME:PST
DTSTART:20261101T090000
END:STANDARD
END:VTIMEZONE
BEGIN:VEVENT
DTSTART;TZID=America/Los_Angeles:20251204T080000
DTEND;TZID=America/Los_Angeles:20251204T103000
DTSTAMP:20260423T020136
CREATED:20251106T023324Z
LAST-MODIFIED:20251106T023324Z
UID:10000063-1764835200-1764844200@eastbayeda.org
SUMMARY:Oakland Structures
DESCRIPTION:Join the San Francisco Business Times for an insightful discussion on Oakland’s evolving real estate landscape. The Town has faced problems with office vacancies\, perception issues and high construction costs\, but new leadership under Mayor Barbara Lee and efforts to revitalize the city across public and private sectors have the market poised for transformation. Join Oakland leaders as they delve into current trends\, investment opportunities and the future of residential and commercial development in Oakland. Sign up today! \nDon’t miss this chance to understand how today’s decisions are shaping Oakland’s future.
URL:https://eastbayeda.org/event/oakland-structures/
LOCATION:Oakland Marriott City Center\, 1001 Broadway\, Oakland\, 94607\, United States
CATEGORIES:Economic Development,External,Networking
ATTACH;FMTTYPE=image/jpeg:https://eastbayeda.org/wp-content/uploads/2025/11/SFBT25_OaklandStruc_Reg_event.jpg
END:VEVENT
BEGIN:VEVENT
DTSTART;TZID=America/Los_Angeles:20251113T080000
DTEND;TZID=America/Los_Angeles:20251113T100000
DTSTAMP:20260423T020136
CREATED:20251024T010658Z
LAST-MODIFIED:20251028T182044Z
UID:10000052-1763020800-1763028000@eastbayeda.org
SUMMARY:Manufacturing in the Bay Area
DESCRIPTION:Join the San Francisco Business Times for Manufacturing in the Bay Area\, an enlightening program with a group of Bay Area manufacturing leaders who will discuss industry trends\, challenges\, innovative practices\, and growth opportunities of being in this region. \nThe program will begin with a keynote Q&A conversation with John and Helen Meyer\, co-founders of Meyer Sound\, who will share their remarkable journey building one of the world’s leading audio technology companies right here in the Bay Area. \nAttendees will gain valuable insights in the future of manufacturing in one of the nation’s most innovative markets. Register here.
URL:https://eastbayeda.org/event/manufacturing-in-the-bay-area/
LOCATION:Oakland Marriott City Center\, 1001 Broadway\, Oakland\, 94607\, United States
CATEGORIES:External
ATTACH;FMTTYPE=image/jpeg:https://eastbayeda.org/wp-content/uploads/2025/10/SFBT25_ManufacturingBA_flyer.jpg
END:VEVENT
END:VCALENDAR