BEGIN:VCALENDAR
VERSION:2.0
PRODID:-//East Bay Economic Development Alliance - ECPv6.15.20//NONSGML v1.0//EN
CALSCALE:GREGORIAN
METHOD:PUBLISH
X-ORIGINAL-URL:https://eastbayeda.org
X-WR-CALDESC:Events for East Bay Economic Development Alliance
REFRESH-INTERVAL;VALUE=DURATION:PT1H
X-Robots-Tag:noindex
X-PUBLISHED-TTL:PT1H
BEGIN:VTIMEZONE
TZID:America/Los_Angeles
BEGIN:DAYLIGHT
TZOFFSETFROM:-0800
TZOFFSETTO:-0700
TZNAME:PDT
DTSTART:20230312T100000
END:DAYLIGHT
BEGIN:STANDARD
TZOFFSETFROM:-0700
TZOFFSETTO:-0800
TZNAME:PST
DTSTART:20231105T090000
END:STANDARD
BEGIN:DAYLIGHT
TZOFFSETFROM:-0800
TZOFFSETTO:-0700
TZNAME:PDT
DTSTART:20240310T100000
END:DAYLIGHT
BEGIN:STANDARD
TZOFFSETFROM:-0700
TZOFFSETTO:-0800
TZNAME:PST
DTSTART:20241103T090000
END:STANDARD
BEGIN:DAYLIGHT
TZOFFSETFROM:-0800
TZOFFSETTO:-0700
TZNAME:PDT
DTSTART:20250309T100000
END:DAYLIGHT
BEGIN:STANDARD
TZOFFSETFROM:-0700
TZOFFSETTO:-0800
TZNAME:PST
DTSTART:20251102T090000
END:STANDARD
BEGIN:DAYLIGHT
TZOFFSETFROM:-0800
TZOFFSETTO:-0700
TZNAME:PDT
DTSTART:20260308T100000
END:DAYLIGHT
BEGIN:STANDARD
TZOFFSETFROM:-0700
TZOFFSETTO:-0800
TZNAME:PST
DTSTART:20261101T090000
END:STANDARD
BEGIN:DAYLIGHT
TZOFFSETFROM:-0800
TZOFFSETTO:-0700
TZNAME:PDT
DTSTART:20270314T100000
END:DAYLIGHT
BEGIN:STANDARD
TZOFFSETFROM:-0700
TZOFFSETTO:-0800
TZNAME:PST
DTSTART:20271107T090000
END:STANDARD
END:VTIMEZONE
BEGIN:VEVENT
DTSTART;TZID=America/Los_Angeles:20260402T090000
DTEND;TZID=America/Los_Angeles:20260402T110000
DTSTAMP:20260424T075721
CREATED:20260319T181247Z
LAST-MODIFIED:20260327T234701Z
UID:10000072-1775120400-1775127600@eastbayeda.org
SUMMARY:Corridors: The Opportunity Along I-880
DESCRIPTION:What’s next for the East Bay’s I-880 corridor? \nFrom Hayward to San Leandro to East Oakland\, this industrial backbone powers manufacturing\, logistics\, and distribution across the region. But continued growth raises big questions: \n➡️ Where will the workforce come from?\n➡️ Can energy infrastructure keep up with demand?\n➡️ What investments are needed to support the next wave of industry? \nFor the first time\, the San Francisco Business Times is convening regional leaders to explore these questions as part of our Corridors of Opportunity series. \nRegister and secure your spot! More details on the speakers shaping this inaugural conversation coming soon.
URL:https://eastbayeda.org/event/corridors-the-opportunity-along-i-880/
LOCATION:California State University\, East Bay\, 25800 Carlos Bee Boulevard\, Hayward\, CA\, 94542\, United States
CATEGORIES:Economic Development,Economy,Networking
ATTACH;FMTTYPE=image/jpeg:https://eastbayeda.org/wp-content/uploads/2026/03/SFBT-Corridors-880-w-logos-landscape.jpg
END:VEVENT
BEGIN:VEVENT
DTSTART;TZID=America/Los_Angeles:20240721T130000
DTEND;TZID=America/Los_Angeles:20240721T150000
DTSTAMP:20260424T075721
CREATED:20240601T081828Z
LAST-MODIFIED:20240601T081828Z
UID:10000021-1721566800-1721574000@eastbayeda.org
SUMMARY:East Bay Leaders Gameday
DESCRIPTION:Join East Bay EDA and Kos Read Group on the field at Cal State East Bay in Hayward for a nationally televised game between the Oakland Roots vs. Sacramento Republic on Sunday\, July 21! Come enjoy refreshments and and network with East Bay community leaders and partners for a premium VIP experience. \nThis event is invitation-only. Tickets (value of $150) include: \n\nField suite access\nCatered food and beverage (includes alcohol)\nPrivate entrance\nFree parking\n\nGame Details \nOakland Roots SC vs. Sacramento Republic FC \nThis game will be televised on CBS and Paramount+ \nPioneer Stadium \nCalifornia State University\, East Bay
URL:https://eastbayeda.org/event/gameday-oakland-roots/
LOCATION:California State University\, East Bay\, 25800 Carlos Bee Boulevard\, Hayward\, CA\, 94542\, United States
CATEGORIES:East Bay EDA
ATTACH;FMTTYPE=image/png:https://eastbayeda.org/wp-content/uploads/2024/06/East-Bay-Leaders-Roots-game-1200-px.png
END:VEVENT
END:VCALENDAR